BEGIN:VCALENDAR
VERSION:2.0
PRODID:icalendar-ruby
CALSCALE:GREGORIAN
METHOD:PUBLISH
BEGIN:VEVENT
DTSTAMP:20260422T022229Z
UID:74-846054@connectionschurchde.com
DTSTART:20260913T124500Z
DTEND:20260913T130000Z
CLASS:PUBLIC
CREATED:20260421T202727
DESCRIPTION:
LAST-MODIFIED:20260421T202727
LOCATION:Coordinator: Pastor Willie Villegas
SUMMARY: War Room Intercessory Prayer Team
URL;VALUE=URI:https://www.connectionschurchde.com/events/war-room-intercess
 ory-prayer-team/2026-09-13
ATTACH;FILENAME=Spiritual-Warfare.jpg;FMTTYPE=image/jpeg:https://dq5pwpg1q8
 ru0.cloudfront.net/2023/08/15/05/15/02/3553f0a8-9808-46da-8478-f840f9ec6a8
 7/Spiritual-Warfare.jpg
END:VEVENT
END:VCALENDAR
